BEGIN:VCALENDAR
VERSION:2.0
PRODID:spatie/icalendar-generator
DESCRIPTION:Events from SUNSET RODEO
X-WR-CALDESC:Events from SUNSET RODEO
REFRESH-INTERVAL;VALUE=DURATION:PT1440M
X-PUBLISHED-TTL:PT1440M
BEGIN:VTIMEZONE
TZID:America/New_York
BEGIN:STANDARD
DTSTART:20251102T020000Z
TZOFFSETFROM:-0400
TZOFFSETTO:-0500
END:STANDARD
BEGIN:DAYLIGHT
DTSTART:20260308T020000Z
TZOFFSETFROM:-0500
TZOFFSETTO:-0400
END:DAYLIGHT
END:VTIMEZONE
BEGIN:VTIMEZONE
TZID:UTC
BEGIN:STANDARD
DTSTART:20250728T031624Z
TZOFFSETFROM:+0000
TZOFFSETTO:+0000
END:STANDARD
END:VTIMEZONE
BEGIN:VEVENT
UID:963-3
DTSTAMP:20260424T031624Z
SUMMARY:Forrest Hoffar
LOCATION:
ORGANIZER;CN=stephen:MAILTO:stephen@sunshinestatead.com
RRULE:FREQ=WEEKLY;UNTIL=20260529T000000Z
DTSTART;TZID=America/New_York:20260417T180000
DTEND;TZID=America/New_York:20260417T210000
X-ALT-DESC;FMTTYPE=TEXT/HTML:Happy Hour Solo 6:00PM
CATEGORIES:General
URL;VALUE=URI:https://sunsetrodeo.com/mc-events/forrest-hoffar/?mc_id=963
METHOD:PUBLISH
END:VEVENT
END:VCALENDAR